BEGIN:VCALENDAR
VERSION:2.0
PRODID:-//Rotary Club of Cashiers Valley//NONSGML kigkonsult.se iCalcreator 2.41.92//
CALSCALE:GREGORIAN
METHOD:PUBLISH
UID:31613537-6361-4061-a534-613033646531
X-WR-CALNAME:iCagenda
X-WR-CALDESC:Event Management Extension for Joomla!
X-WR-RELCALID:3E26604A-50F4-4449-8B3E-E4F4932D05B5
X-WR-TIMEZONE:UTC
BEGIN:VTIMEZONE
TZID:UTC
END:VTIMEZONE
BEGIN:VEVENT
UID:61336363-6232-4734-a235-363963333439
DTSTAMP:20260420T175030Z
CATEGORIES:Weekly Meeting
CLASS:PUBLIC
DESCRIPTION;ALTREP="CID:<FFFF__=0ABBE548DFE235B58f9e8a93d@coffeebean.com>":
 Meagan Cagle from the Jackson County Health Department will join us to tal
 k about the resources and programming available from the health department
 .\nJoin us every first and third Wednesday of the month! Lunch @ 11:30\; M
 eeting @ 12pm/noon. Our weekly meetings are held every first and third Wed
 nesday of the month at Cashiers United Methodist Church\, located at 894 H
 ighway 107S in Cashiers\, NC. Lunch is served at 11:30am and the meeting b
 egins at 12pm/noon. Visitors are welcome!
DTSTART:20260603T113000Z
DTEND:20260603T113000Z
GEO:00;0
LOCATION:Cashiers UMC
ORGANIZER;CN=:mailto:rotaryclubofcashiersnc@gmail.com
SEQUENCE:1
SUMMARY:Jackson County Department of Public Health
TRANSP:OPAQUE
URL:https://www.cashiersrotary.org/calendar/209-jackson-county-department-o
 f-public-health/2026-06-03-11-30
END:VEVENT
END:VCALENDAR
