BEGIN:VCALENDAR
VERSION:2.0
PRODID:-//Rotary Club of Cashiers Valley//NONSGML kigkonsult.se iCalcreator 2.41.92//
CALSCALE:GREGORIAN
METHOD:PUBLISH
UID:32353433-3666-4332-b936-376337626362
X-WR-CALNAME:iCagenda
X-WR-CALDESC:Event Management Extension for Joomla!
X-WR-RELCALID:3E26604A-50F4-4449-8B3E-E4F4932D05B5
X-WR-TIMEZONE:UTC
BEGIN:VTIMEZONE
TZID:UTC
END:VTIMEZONE
BEGIN:VEVENT
UID:61643835-3964-4762-a130-646366626635
DTSTAMP:20260426T022616Z
CATEGORIES:Monthly Social
CLASS:PUBLIC
DESCRIPTION;ALTREP="CID:<FFFF__=0ABBE548DFE235B58f9e8a93d@coffeebean.com>":
 Join us every third Tuesday of the month at 5:30pm at Mica's restaurant in
  Sapphire\, NC. Bring your spouses\, friends\, and others who might be int
 erested in hanging out with an awesome group of Rotarians!
DTSTART:20220419T170000Z
DTEND:20220419T170000Z
GEO:00;0
LOCATION:Mica's Restaurant\, 25 Logan Creek Trail\, Sapphire\, NC 28774
ORGANIZER;CN=:mailto:info@cashiersrotary.org
SEQUENCE:1
SUMMARY:Monthly Social: Mica's Restaurant
TRANSP:OPAQUE
URL:https://www.cashiersrotary.org/calendar/21-monthly-social-mica-s-restau
 rant-4/2022-04-19-17-00
END:VEVENT
END:VCALENDAR
