BEGIN:VCALENDAR
VERSION:2.0
PRODID:-//Rotary Club of Cashiers Valley//NONSGML kigkonsult.se iCalcreator 2.41.92//
CALSCALE:GREGORIAN
METHOD:PUBLISH
UID:65336333-3363-4365-a139-393235666262
X-WR-CALNAME:iCagenda
X-WR-CALDESC:Event Management Extension for Joomla!
X-WR-RELCALID:3E26604A-50F4-4449-8B3E-E4F4932D05B5
X-WR-TIMEZONE:UTC
BEGIN:VTIMEZONE
TZID:UTC
END:VTIMEZONE
BEGIN:VEVENT
UID:64386531-6565-4239-a665-656663613665
DTSTAMP:20260420T174337Z
CATEGORIES:Weekly Meeting
CLASS:PUBLIC
DESCRIPTION;ALTREP="CID:<FFFF__=0ABBE548DFE235B58f9e8a93d@coffeebean.com>":
 We'll be inducting the new Board Officers for the 2026-2027 Rotary year th
 at begins July 1st. The luncheon will be catered. Stay tuned for more deat
 ils.\nJoin us every first and third Wednesday of the month! Lunch @ 11:30\
 ; Meeting @ 12pm/noon. Our weekly meetings are held every first and third 
 Wednesday of the month at Cashiers United Methodist Church\, located at 89
 4 Highway 107S in Cashiers\, NC. Lunch is served at 11:30am and the meetin
 g begins at 12pm/noon. Visitors are welcome!
DTSTART:20260617T113000Z
DTEND:20260617T113000Z
GEO:00;0
LOCATION:Cashiers UMC
ORGANIZER;CN=:mailto:rotaryclubofcashiersnc@gmail.com
SEQUENCE:1
SUMMARY:Officer Induction
TRANSP:OPAQUE
URL:https://www.cashiersrotary.org/calendar/210-officer-induction/2026-06-1
 7-11-30
END:VEVENT
END:VCALENDAR
