BEGIN:VCALENDAR
VERSION:2.0
PRODID:-//Rotary Club of Cashiers Valley//NONSGML kigkonsult.se iCalcreator 2.41.92//
CALSCALE:GREGORIAN
METHOD:PUBLISH
UID:65326231-6561-4137-b264-363630376632
X-WR-CALNAME:iCagenda
X-WR-CALDESC:Event Management Extension for Joomla!
X-WR-RELCALID:3E26604A-50F4-4449-8B3E-E4F4932D05B5
X-WR-TIMEZONE:UTC
BEGIN:VTIMEZONE
TZID:UTC
END:VTIMEZONE
BEGIN:VEVENT
UID:66633932-3734-4038-b666-333030306531
DTSTAMP:20260426T022657Z
CATEGORIES:Monthly Social
CLASS:PUBLIC
DESCRIPTION;ALTREP="CID:<FFFF__=0ABBE548DFE235B58f9e8a93d@coffeebean.com>":
 September's 'First Tuesday' takes place on Tuesday\, August 31 at 5:30pm a
 t Mica's restaurant in Sapphire\, NC. Bring your spouses\, friends\, and o
 thers who might be interested in hanging out with an awesome group of Rota
 rians!
DTSTART:20210831T170000Z
DTEND:20210831T170000Z
GEO:00;0
LOCATION:Mica's Restaurant\, 25 Logan Creek Trail\, Sapphire\, NC 28774
ORGANIZER;CN=:mailto:info@cashiersrotary.org
SEQUENCE:1
SUMMARY:Monthly Social: Mica's Restaurant
TRANSP:OPAQUE
URL:https://www.cashiersrotary.org/calendar/9-monthly-social-mica-s-restaur
 ant-2/2021-08-31-17-00
END:VEVENT
END:VCALENDAR
